Workbook

Sheet Plan
B1: Roth conversion bracket planner
B2: Fill your chosen bracket every year. 2026 brackets live on the Brackets sheet - marginal tax computed exactly via SUMPRODUCT.
B3: From Quiet Zeros — free, private calculators. Green cells are inputs; everything else recalculates.
B4: Inputs
B5: Traditional balance to convert | C5: 400000
B6: Current taxable income | C6: 60000
B7: Bracket ceiling (top $, see Brackets sheet) | C7: 105700
B8: Balance growth (%/yr) | C8: 0.06
B10: Converted per year (bracket space) | C10: =MAX(0,C7-C6)
E13: Year | F13: Converted | G13: Tax that year | H13: Balance left
E14: 1 | F14: =MIN($C$10,$C$5) | G14: =SUMPRODUCT((($C$6+F14)>Brackets!$B$2:$B$8)*(($C$6+F14)-Brackets!$B$2:$B$8)*Brackets!$D$2:$D$8)-SUMPRODUCT(($C$6>Brackets!$B$2:$B$8)*($C$6-Brackets!$B$2:$B$8)*Brackets!$D$2:$D$8) | H14: =MAX(0,($C$5-F14)*(1+$C$8))
E15: 2 | F15: =MIN($C$10,H14) | G15: =SUMPRODUCT((($C$6+F15)>Brackets!$B$2:$B$8)*(($C$6+F15)-Brackets!$B$2:$B$8)*Brackets!$D$2:$D$8)-SUMPRODUCT(($C$6>Brackets!$B$2:$B$8)*($C$6-Brackets!$B$2:$B$8)*Brackets!$D$2:$D$8) | H15: =MAX(0,(H14-F15)*(1+$C$8))
E16: 3 | F16: =MIN($C$10,H15) | G16: =SUMPRODUCT((($C$6+F16)>Brackets!$B$2:$B$8)*(($C$6+F16)-Brackets!$B$2:$B$8)*Brackets!$D$2:$D$8)-SUMPRODUCT(($C$6>Brackets!$B$2:$B$8)*($C$6-Brackets!$B$2:$B$8)*Brackets!$D$2:$D$8) | H16: =MAX(0,(H15-F16)*(1+$C$8))
E17: 4 | F17: =MIN($C$10,H16) | G17: =SUMPRODUCT((($C$6+F17)>Brackets!$B$2:$B$8)*(($C$6+F17)-Brackets!$B$2:$B$8)*Brackets!$D$2:$D$8)-SUMPRODUCT(($C$6>Brackets!$B$2:$B$8)*($C$6-Brackets!$B$2:$B$8)*Brackets!$D$2:$D$8) | H17: =MAX(0,(H16-F17)*(1+$C$8))
E18: 5 | F18: =MIN($C$10,H17) | G18: =SUMPRODUCT((($C$6+F18)>Brackets!$B$2:$B$8)*(($C$6+F18)-Brackets!$B$2:$B$8)*Brackets!$D$2:$D$8)-SUMPRODUCT(($C$6>Brackets!$B$2:$B$8)*($C$6-Brackets!$B$2:$B$8)*Brackets!$D$2:$D$8) | H18: =MAX(0,(H17-F18)*(1+$C$8))
E19: 6 | F19: =MIN($C$10,H18) | G19: =SUMPRODUCT((($C$6+F19)>Brackets!$B$2:$B$8)*(($C$6+F19)-Brackets!$B$2:$B$8)*Brackets!$D$2:$D$8)-SUMPRODUCT(($C$6>Brackets!$B$2:$B$8)*($C$6-Brackets!$B$2:$B$8)*Brackets!$D$2:$D$8) | H19: =MAX(0,(H18-F19)*(1+$C$8))
E20: 7 | F20: =MIN($C$10,H19) | G20: =SUMPRODUCT((($C$6+F20)>Brackets!$B$2:$B$8)*(($C$6+F20)-Brackets!$B$2:$B$8)*Brackets!$D$2:$D$8)-SUMPRODUCT(($C$6>Brackets!$B$2:$B$8)*($C$6-Brackets!$B$2:$B$8)*Brackets!$D$2:$D$8) | H20: =MAX(0,(H19-F20)*(1+$C$8))
E21: 8 | F21: =MIN($C$10,H20) | G21: =SUMPRODUCT((($C$6+F21)>Brackets!$B$2:$B$8)*(($C$6+F21)-Brackets!$B$2:$B$8)*Brackets!$D$2:$D$8)-SUMPRODUCT(($C$6>Brackets!$B$2:$B$8)*($C$6-Brackets!$B$2:$B$8)*Brackets!$D$2:$D$8) | H21: =MAX(0,(H20-F21)*(1+$C$8))
E22: 9 | F22: =MIN($C$10,H21) | G22: =SUMPRODUCT((($C$6+F22)>Brackets!$B$2:$B$8)*(($C$6+F22)-Brackets!$B$2:$B$8)*Brackets!$D$2:$D$8)-SUMPRODUCT(($C$6>Brackets!$B$2:$B$8)*($C$6-Brackets!$B$2:$B$8)*Brackets!$D$2:$D$8) | H22: =MAX(0,(H21-F22)*(1+$C$8))
E23: 10 | F23: =MIN($C$10,H22) | G23: =SUMPRODUCT((($C$6+F23)>Brackets!$B$2:$B$8)*(($C$6+F23)-Brackets!$B$2:$B$8)*Brackets!$D$2:$D$8)-SUMPRODUCT(($C$6>Brackets!$B$2:$B$8)*($C$6-Brackets!$B$2:$B$8)*Brackets!$D$2:$D$8) | H23: =MAX(0,(H22-F23)*(1+$C$8))
E24: 11 | F24: =MIN($C$10,H23) | G24: =SUMPRODUCT((($C$6+F24)>Brackets!$B$2:$B$8)*(($C$6+F24)-Brackets!$B$2:$B$8)*Brackets!$D$2:$D$8)-SUMPRODUCT(($C$6>Brackets!$B$2:$B$8)*($C$6-Brackets!$B$2:$B$8)*Brackets!$D$2:$D$8) | H24: =MAX(0,(H23-F24)*(1+$C$8))
E25: 12 | F25: =MIN($C$10,H24) | G25: =SUMPRODUCT((($C$6+F25)>Brackets!$B$2:$B$8)*(($C$6+F25)-Brackets!$B$2:$B$8)*Brackets!$D$2:$D$8)-SUMPRODUCT(($C$6>Brackets!$B$2:$B$8)*($C$6-Brackets!$B$2:$B$8)*Brackets!$D$2:$D$8) | H25: =MAX(0,(H24-F25)*(1+$C$8))
E26: 13 | F26: =MIN($C$10,H25) | G26: =SUMPRODUCT((($C$6+F26)>Brackets!$B$2:$B$8)*(($C$6+F26)-Brackets!$B$2:$B$8)*Brackets!$D$2:$D$8)-SUMPRODUCT(($C$6>Brackets!$B$2:$B$8)*($C$6-Brackets!$B$2:$B$8)*Brackets!$D$2:$D$8) | H26: =MAX(0,(H25-F26)*(1+$C$8))
... E53: 40 | F53: =MIN($C$10,H52) | G53: =SUMPRODUCT((($C$6+F53)>Brackets!$B$2:$B$8)*(($C$6+F53)-Brackets!$B$2:$B$8)*Brackets!$D$2:$D$8)-SUMPRODUCT(($C$6>Brackets!$B$2:$B$8)*($C$6-Brackets!$B$2:$B$8)*Brackets!$D$2:$D$8) | H53: =MAX(0,(H52-F53)*(1+$C$8))

Sheet Brackets
A1: Rate | B1: Single from | C1: Joint from | D1: Step
A2: 0.1 | B2: 0 | C2: 0 | D2: 0.1
A3: 0.12 | B3: 12400 | C3: 24800 | D3: 0.02
A4: 0.22 | B4: 50400 | C4: 100800 | D4: 0.1
A5: 0.24 | B5: 105700 | C5: 211400 | D5: 0.02
A6: 0.32 | B6: 201775 | C6: 403550 | D6: 0.08
A7: 0.35 | B7: 256225 | C7: 512450 | D7: 0.03
A8: 0.37 | B8: 640600 | C8: 768700 | D8: 0.02
A10: Single-filer thresholds are used in the Plan sheet; swap column B for C in the formulas if filing jointly.
